BEGIN:VCALENDAR
VERSION:2.0
PRODID:-//Move-Bildung - ECPv5.16.4//NONSGML v1.0//EN
CALSCALE:GREGORIAN
METHOD:PUBLISH
X-ORIGINAL-URL:https://move-bildung.de
X-WR-CALDESC:Veranstaltungen für Move-Bildung
REFRESH-INTERVAL;VALUE=DURATION:PT1H
X-Robots-Tag:noindex
X-PUBLISHED-TTL:PT1H
BEGIN:VTIMEZONE
TZID:Europe/Berlin
BEGIN:DAYLIGHT
TZOFFSETFROM:+0100
TZOFFSETTO:+0200
TZNAME:CEST
DTSTART:20230326T010000
END:DAYLIGHT
BEGIN:STANDARD
TZOFFSETFROM:+0200
TZOFFSETTO:+0100
TZNAME:CET
DTSTART:20231029T010000
END:STANDARD
BEGIN:DAYLIGHT
TZOFFSETFROM:+0100
TZOFFSETTO:+0200
TZNAME:CEST
DTSTART:20240331T010000
END:DAYLIGHT
BEGIN:STANDARD
TZOFFSETFROM:+0200
TZOFFSETTO:+0100
TZNAME:CET
DTSTART:20241027T010000
END:STANDARD
END:VTIMEZONE
BEGIN:VEVENT
DTSTART;VALUE=DATE:20230530
DTEND;VALUE=DATE:20231121
DTSTAMP:20260421T004129
CREATED:20221117T123655Z
LAST-MODIFIED:20230223T110716Z
UID:6493-1685404800-1700524799@move-bildung.de
SUMMARY:TQ 1 - Güter befördern
DESCRIPTION:Berufskraftfahrer/in\nTQ 1 – Güter befördern\n \n………………………………………………………………………………………………… \nLehrgangsinhalte: \n\nErwerb der Fahrerlaubnis C/CE  Theorie und Praxis\nBerechtigung zum gewerbsmäßigen Gütertransport mit IHK-Prüfung\nADR Gefahrgut Basis- und Tank\, Ladekranausbildung\, Gabelstaplerausbildung und Ladungssicherungsausbildung\nPraktikum\n\nZugangsvoraussetzungen: \n\nVorbesitz Fahrerlaubnis der Klasse B\nmind. 21 Jahre alt\ngesundheitliche Eignung\ngute Kenntnisse der deutschen Sprache und Schrift\n\nLehrgangsdauer: \n\n4 Monate Theorie und Praxis in Vollzeit\n2 Monate Praktikum in Vollzeit
URL:https://move-bildung.de/event/tq-1-gueter-befoerdern-3/
LOCATION:Verkehrsbildungszentrum Unna GmbH\, Rudolf-Diesel-Straße 51\, Unna\, 59425\, Deutschland
CATEGORIES:Gewerbliche Aus- und Weiterbildung,Kraftfahrer-Aus- und -Weiterbildung,Lehrgänge Berufskraftfahrer Güterverkehr (TQ1),Verkehrsbildungszentrum
ATTACH;FMTTYPE=image/jpeg:https://move-bildung.de/wp-content/uploads/2022/08/102517155_252422489421095_4657044514510656257_n.jpeg
ORGANIZER;CN="Carsten%20Walter":MAILTO:carsten.walter@move-bildung.de
END:VEVENT
BEGIN:VEVENT
DTSTART;VALUE=DATE:20230530
DTEND;VALUE=DATE:20231121
DTSTAMP:20260421T004129
CREATED:20221117T131025Z
LAST-MODIFIED:20230223T110603Z
UID:6532-1685404800-1700524799@move-bildung.de
SUMMARY:TQ 3 - Personen befördern
DESCRIPTION:Berufskraftfahrer/in\nTQ 3 – Personen befördern\n \n………………………………………………………………………………………………… \nLehrgangsinhalte: \n\nErwerb der Fahrerlaubnis D/DE Theorie und Praxis\nBerechtigung zur gewerbsmäßigen Personenbeförderung mit IHK-Prüfung\nPraktikum\n\nZugangsvoraussetzungen: \n\nVorbesitz Fahrerlaubnis der Klasse B (mind. 2 Jahre)\nmind. 23 Jahre alt\ngesundheitliche Eignung\ngute Kenntnisse der deutschen Sprache und Schrift\n\nLehrgangsdauer: \n\n4 Monate Theorie und Praxis in Vollzeit\n2 Monate Praktikum in Vollzeit
URL:https://move-bildung.de/event/tq-3-personen-befoerdern-2/
LOCATION:Verkehrsbildungszentrum Unna GmbH\, Rudolf-Diesel-Straße 51\, Unna\, 59425\, Deutschland
CATEGORIES:Gewerbliche Aus- und Weiterbildung,Kraftfahrer-Aus- und -Weiterbildung,Lehrgänge Berufskraftfahrer Güterverkehr (TQ3),Verkehrsbildungszentrum
ATTACH;FMTTYPE=image/jpeg:https://move-bildung.de/wp-content/uploads/2022/08/102517155_252422489421095_4657044514510656257_n.jpeg
ORGANIZER;CN="Carsten%20Walter":MAILTO:carsten.walter@move-bildung.de
END:VEVENT
BEGIN:VEVENT
DTSTART;VALUE=DATE:20230619
DTEND;VALUE=DATE:20240118
DTSTAMP:20260421T004129
CREATED:20221117T122040Z
LAST-MODIFIED:20230605T092341Z
UID:6475-1687132800-1705535999@move-bildung.de
SUMMARY:TQ 1 Plus - Güter befördern
DESCRIPTION:Berufskraftfahrer m/w/d\nTQ 1 Plus – Güter befördern \nFörderung der fachspezifischen Sprache\n \n………………………………………………………………………………………………… \nLehrgangsinhalte: \n\nErwerb der Fahrerlaubnis C/CE  Theorie und Praxis\nDeutschsprachliche Begleitung und sprachliche Intensivierung\nFachsprachliche Unterweisung und Begleitung\nFachsprachliche Prüfungsvorbereitung\nFachsprachliche Begleitung bei der Führerscheinausbildung\nBerechtigung zum gewerbsmäßigen Gütertransport mit IHK-Prüfung\nADR Gefahrgut Basis- und Tank\, Ladekranausbildung\, Gabelstaplerausbildung und Ladungssicherungsausbildung\nPraktikum\n\nZugangsvoraussetzungen: \n\nVorbesitz Fahrerlaubnis der Klasse B\nmind. 21 Jahre alt\ngesundheitliche Eignung\nausreichende Kenntnisse der deutschen Sprache und Schrift\n\nLehrgangsdauer: \n\n6 Monate Theorie und Praxis in Vollzeit\n2 Monate Praktikum in Vollzeit
URL:https://move-bildung.de/event/tq-1-plus-gueter-befoerdern-3/
LOCATION:Verkehrsbildungszentrum Unna GmbH\, Rudolf-Diesel-Straße 51\, Unna\, 59425\, Deutschland
CATEGORIES:Verkehrsbildungszentrum
ATTACH;FMTTYPE=image/jpeg:https://move-bildung.de/wp-content/uploads/2022/08/102517155_252422489421095_4657044514510656257_n.jpeg
ORGANIZER;CN="Carsten%20Walter":MAILTO:carsten.walter@move-bildung.de
END:VEVENT
BEGIN:VEVENT
DTSTART;VALUE=DATE:20230724
DTEND;VALUE=DATE:20240118
DTSTAMP:20260421T004129
CREATED:20221117T124040Z
LAST-MODIFIED:20221117T124040Z
UID:6497-1690156800-1705535999@move-bildung.de
SUMMARY:TQ 1 - Güter befördern
DESCRIPTION:Berufskraftfahrer/in\nTQ 1 – Güter befördern\n \n………………………………………………………………………………………………… \nLehrgangsinhalte: \n\nErwerb der Fahrerlaubnis C/CE  Theorie und Praxis\nBerechtigung zum gewerbsmäßigen Gütertransport mit IHK-Prüfung\nADR Gefahrgut Basis- und Tank\, Ladekranausbildung\, Gabelstaplerausbildung und Ladungssicherungsausbildung\nPraktikum\n\nZugangsvoraussetzungen: \n\nVorbesitz Fahrerlaubnis der Klasse B\nmind. 21 Jahre alt\ngesundheitliche Eignung\ngute Kenntnisse der deutschen Sprache und Schrift\n\nLehrgangsdauer: \n\n4 Monate Theorie und Praxis in Vollzeit\n2 Monate Praktikum in Vollzeit
URL:https://move-bildung.de/event/tq-1-gueter-befoerdern-4/
LOCATION:Verkehrsbildungszentrum Unna GmbH\, Rudolf-Diesel-Straße 51\, Unna\, 59425\, Deutschland
CATEGORIES:Verkehrsbildungszentrum
ATTACH;FMTTYPE=image/jpeg:https://move-bildung.de/wp-content/uploads/2022/08/102517155_252422489421095_4657044514510656257_n.jpeg
ORGANIZER;CN="Carsten%20Walter":MAILTO:carsten.walter@move-bildung.de
END:VEVENT
BEGIN:VEVENT
DTSTART;VALUE=DATE:20230724
DTEND;VALUE=DATE:20240118
DTSTAMP:20260421T004129
CREATED:20221117T131305Z
LAST-MODIFIED:20221117T131305Z
UID:6537-1690156800-1705535999@move-bildung.de
SUMMARY:TQ 3 - Personen befördern
DESCRIPTION:Berufskraftfahrer/in\nTQ 3 – Personen befördern\n \n………………………………………………………………………………………………… \nLehrgangsinhalte: \n\nErwerb der Fahrerlaubnis D/DE Theorie und Praxis\nBerechtigung zur gewerbsmäßigen Personenbeförderung mit IHK-Prüfung\nPraktikum\n\nZugangsvoraussetzungen: \n\nVorbesitz Fahrerlaubnis der Klasse B (mind. 2 Jahre)\nmind. 23 Jahre alt\ngesundheitliche Eignung\ngute Kenntnisse der deutschen Sprache und Schrift\n\nLehrgangsdauer: \n\n4 Monate Theorie und Praxis in Vollzeit\n2 Monate Praktikum in Vollzeit
URL:https://move-bildung.de/event/tq-3-personen-befoerdern-3/
LOCATION:Verkehrsbildungszentrum Unna GmbH\, Rudolf-Diesel-Straße 51\, Unna\, 59425\, Deutschland
CATEGORIES:Verkehrsbildungszentrum
ATTACH;FMTTYPE=image/jpeg:https://move-bildung.de/wp-content/uploads/2022/08/102517155_252422489421095_4657044514510656257_n.jpeg
ORGANIZER;CN="Carsten%20Walter":MAILTO:carsten.walter@move-bildung.de
END:VEVENT
BEGIN:VEVENT
DTSTART;VALUE=DATE:20230814
DTEND;VALUE=DATE:20240319
DTSTAMP:20260421T004129
CREATED:20230605T093243Z
LAST-MODIFIED:20230605T093243Z
UID:8751-1691971200-1710806399@move-bildung.de
SUMMARY:TQ 1 Plus - Güter befördern
DESCRIPTION:Berufskraftfahrer m/w/d\nTQ 1 Plus – Güter befördern \nFörderung der fachspezifischen Sprache\n \n………………………………………………………………………………………………… \nLehrgangsinhalte: \n\nErwerb der Fahrerlaubnis C/CE  Theorie und Praxis\nSpezielle fachsprachliche Unterstützung und Begleitung\nFachsprachliche Unterweisung und Begleitung\nFachsprachliche Prüfungsvorbereitung\nFachsprachliche Begleitung bei der Führerscheinausbildung\nBerechtigung zum gewerbsmäßigen Gütertransport mit IHK-Prüfung\nADR Gefahrgut Basis- und Tank\, Ladekranausbildung\, Gabelstaplerausbildung und Ladungssicherungsausbildung\nPraktikum\n\nZugangsvoraussetzungen: \n\nVorbesitz Fahrerlaubnis der Klasse B\nmind. 21 Jahre alt\ngesundheitliche Eignung\nausreichende Kenntnisse der deutschen Sprache und Schrift\n\nLehrgangsdauer: \n\nca. 24 Wochen Theorie und Praxis in Vollzeit\n6 Wochen betriebliche Lernphase (Praktikum) in Vollzeit\n\nAchtung:  \nEs handelt sich um eine AZAV zertifizierte Maßnahme\, die durch Kostenträger wie die Agentur für Arbeit oder Jobcenter mit Bildungsgutschein gefördert wird! \nEine Anmeldung ist nur persönlich möglich. Wir freuen uns auf Ihren Besuch!
URL:https://move-bildung.de/event/tq-1-plus-gueter-befoerdern-5/
LOCATION:Verkehrsbildungszentrum Unna GmbH\, Rudolf-Diesel-Straße 51\, Unna\, 59425\, Deutschland
CATEGORIES:Gewerbliche Aus- und Weiterbildung,Kraftfahrer-Aus- und -Weiterbildung,Lehrgänge Berufskraftfahrer Güterverkehr (TQ1 PLUS),Verkehrsbildungszentrum
ATTACH;FMTTYPE=image/jpeg:https://move-bildung.de/wp-content/uploads/2022/12/102517155_252422489421095_4657044514510656257_n-1-1.jpeg
ORGANIZER;CN="Carsten%20Walter":MAILTO:carsten.walter@move-bildung.de
END:VEVENT
BEGIN:VEVENT
DTSTART;VALUE=DATE:20230918
DTEND;VALUE=DATE:20240319
DTSTAMP:20260421T004129
CREATED:20221117T131709Z
LAST-MODIFIED:20221117T131709Z
UID:6548-1694995200-1710806399@move-bildung.de
SUMMARY:TQ 3 - Personen befördern
DESCRIPTION:Berufskraftfahrer/in\nTQ 3 – Personen befördern\n \n………………………………………………………………………………………………… \nLehrgangsinhalte: \n\nErwerb der Fahrerlaubnis D/DE Theorie und Praxis\nBerechtigung zur gewerbsmäßigen Personenbeförderung mit IHK-Prüfung\nPraktikum\n\nZugangsvoraussetzungen: \n\nVorbesitz Fahrerlaubnis der Klasse B (mind. 2 Jahre)\nmind. 23 Jahre alt\ngesundheitliche Eignung\ngute Kenntnisse der deutschen Sprache und Schrift\n\nLehrgangsdauer: \n\n4 Monate Theorie und Praxis in Vollzeit\n2 Monate Praktikum in Vollzeit
URL:https://move-bildung.de/event/tq-3-personen-befoerdern-4/
LOCATION:Verkehrsbildungszentrum Unna GmbH\, Rudolf-Diesel-Straße 51\, Unna\, 59425\, Deutschland
CATEGORIES:Verkehrsbildungszentrum
ATTACH;FMTTYPE=image/jpeg:https://move-bildung.de/wp-content/uploads/2022/08/102517155_252422489421095_4657044514510656257_n.jpeg
ORGANIZER;CN="Carsten%20Walter":MAILTO:carsten.walter@move-bildung.de
END:VEVENT
BEGIN:VEVENT
DTSTART;VALUE=DATE:20230918
DTEND;VALUE=DATE:20240319
DTSTAMP:20260421T004129
CREATED:20230605T093803Z
LAST-MODIFIED:20230605T093803Z
UID:8753-1694995200-1710806399@move-bildung.de
SUMMARY:TQ 1 - Güter befördern
DESCRIPTION:Berufskraftfahrer/in\nTQ 1 – Güter befördern\n \n………………………………………………………………………………………………… \nLehrgangsinhalte: \n\nErwerb der Fahrerlaubnis C/CE  Theorie und Praxis\nBerechtigung zum gewerbsmäßigen Gütertransport mit IHK-Prüfung\nADR Gefahrgut Basis- und Tank\, Ladekranausbildung\, Gabelstaplerausbildung und Ladungssicherungsausbildung\nPraktikum\n\nZugangsvoraussetzungen: \n\nVorbesitz Fahrerlaubnis der Klasse B\nmind. 21 Jahre alt\ngesundheitliche Eignung\ngute Kenntnisse der deutschen Sprache und Schrift\n\nLehrgangsdauer: \n\n18 Wochen Theorie und Praxis in Vollzeit\n6 Wochen betriebliche Lernphase (Praktikum) in Vollzeit\n\nAchtung:  \nEs handelt sich um eine AZAV zertifizierte Maßnahme\, die durch Kostenträger wie die Agentur für Arbeit oder Jobcenter mit Bildungsgutschein gefördert wird! \nEine Anmeldung ist nur persönlich möglich. Wir freuen uns auf Ihren Besuch!
URL:https://move-bildung.de/event/tq-1-gueter-befoerdern-7/
LOCATION:Verkehrsbildungszentrum Unna GmbH\, Rudolf-Diesel-Straße 51\, Unna\, 59425\, Deutschland
CATEGORIES:Gewerbliche Aus- und Weiterbildung,Kraftfahrer-Aus- und -Weiterbildung,Lehrgänge Berufskraftfahrer Güterverkehr (TQ1),Verkehrsbildungszentrum
ATTACH;FMTTYPE=image/png:https://move-bildung.de/wp-content/uploads/2022/08/Header_leiste_NM_02.png
ORGANIZER;CN="Carsten%20Walter":MAILTO:carsten.walter@move-bildung.de
END:VEVENT
BEGIN:VEVENT
DTSTART;VALUE=DATE:20231009
DTEND;VALUE=DATE:20231104
DTSTAMP:20260421T004129
CREATED:20230607T121006Z
LAST-MODIFIED:20230607T121006Z
UID:8772-1696809600-1699055999@move-bildung.de
SUMMARY:Eignungsfeststellung Berufskraftfahrer
DESCRIPTION:Eignungsfeststellungsmaßnahme für den Berufskraftfahrerbereich \n………………………………………………………………………………………………… \nDie Eignungsfeststellungsmaßnahme beinhaltet eine abschließende Empfehlungen zur beruflichen Orientierung. \n\nKlärung der formalen Voraussetzungen\nTestung der erforderlichen deutschsprachlichen Kenntnisse\nOrientierungshilfe für die berufliche Ausrichtung\nVorstellung der möglichen Teilqualifizierungen TQ1\, TQ1 Plus und TQ3\n\nAchtung:  \nEs handelt sich um eine AZAV zertifizierte Maßnahme\, die durch Kostenträger wie die Agentur für Arbeit oder Jobcenter mit Bildungsgutschein gefördert wird! \nEine Anmeldung ist nur persönlich möglich. Wir freuen uns auf Ihren Besuch!
URL:https://move-bildung.de/event/eignungsfeststellung-berufskraftfahrer-3/
LOCATION:Verkehrsbildungszentrum Unna GmbH\, Rudolf-Diesel-Straße 51\, Unna\, 59425\, Deutschland
CATEGORIES:Eignungsfeststellung,Gewerbliche Aus- und Weiterbildung,Kraftfahrer-Aus- und -Weiterbildung,Verkehrsbildungszentrum
ATTACH;FMTTYPE=image/png:https://move-bildung.de/wp-content/uploads/2022/08/Header_leiste_NM_02.png
ORGANIZER;CN="Carsten%20Walter":MAILTO:carsten.walter@move-bildung.de
END:VEVENT
BEGIN:VEVENT
DTSTART;VALUE=DATE:20231009
DTEND;VALUE=DATE:20231205
DTSTAMP:20260421T004129
CREATED:20230607T131534Z
LAST-MODIFIED:20230607T131534Z
UID:8782-1696809600-1701734399@move-bildung.de
SUMMARY:Beschleunigte Grundqualifikation im Güterverkehr
DESCRIPTION:Beschleunigte Grundqualifikation im Güterverkehr C/CE und C1/C1E mit IHK-Prüfung  \n…………………………………………………………………………………………………………………………………. \n\nDurch Teilnahme an 140 Stunden Unterricht à 60 Minuten und erfolgreicher theoretischer Prüfung von 90 Minuten vor der IHK\, wird die beschleunigte Grundqualifikation erworben. Wobei von den 140 Stunden\, 10 Stunden praktisch auf der entsprechenden Fahrzeugklasse absolviert werden. Für Fahrten im Güterkraftverkehr zu gewerblichen Zwecken. \nLehrgangsinhalte: \n\nGesundheit und Fitness\nKinematische Kette Energie & Umwelt\nBremsanlagen\nLadungssicherung\nSozialvorschriften\nVorschriften für den Güterkraftverkehr\nUnfälle\, Notfälle und Kriminalität\nUnternehmensbild und Marktordnung des Güterkraftverkehrs\nWartung und Pflege\nIHK-Prüfung\n\nZugangsvoraussetzungen: \n\nFür diesen Vorbereitungslehrgang ist der Besitz der Fahrerlaubnis nicht erforderlich\nMindestalter 18 Jahre für die Fahrerlaubnis der Klassen C1 oder C1E\nMindestalter 21 Jahre für die Fahrerlaubnis der Klassen C oder CE
URL:https://move-bildung.de/event/beschleunigte-grundqualifikation-im-gueterverkehr-3/
LOCATION:Verkehrsbildungszentrum Unna GmbH\, Rudolf-Diesel-Straße 51\, Unna\, 59425\, Deutschland
CATEGORIES:Beschleunigte Grundqualifikation,Beschleunigte Grundqualifikation Güter-/Personenverkehr,Verkehrsbildungszentrum
ATTACH;FMTTYPE=image/png:https://move-bildung.de/wp-content/uploads/2022/08/Header_leiste_NM_02.png
ORGANIZER;CN="Carsten%20Walter":MAILTO:carsten.walter@move-bildung.de
END:VEVENT
BEGIN:VEVENT
DTSTART;VALUE=DATE:20231016
DTEND;VALUE=DATE:20240524
DTSTAMP:20260421T004129
CREATED:20221117T122449Z
LAST-MODIFIED:20230605T093358Z
UID:6481-1697414400-1716508799@move-bildung.de
SUMMARY:TQ 1 Plus - Güter befördern
DESCRIPTION:Berufskraftfahrer m/w/d\nTQ 1 Plus – Güter befördern \nFörderung der fachspezifischen Sprache\n \n………………………………………………………………………………………………… \nLehrgangsinhalte: \n\nErwerb der Fahrerlaubnis C/CE  Theorie und Praxis\nDeutschsprachliche Begleitung und sprachliche Intensivierung\nFachsprachliche Unterweisung und Begleitung\nFachsprachliche Prüfungsvorbereitung\nFachsprachliche Begleitung bei der Führerscheinausbildung\nBerechtigung zum gewerbsmäßigen Gütertransport mit IHK-Prüfung\nADR Gefahrgut Basis- und Tank\, Ladekranausbildung\, Gabelstaplerausbildung und Ladungssicherungsausbildung\nPraktikum\n\nZugangsvoraussetzungen: \n\nVorbesitz Fahrerlaubnis der Klasse B\nmind. 21 Jahre alt\ngesundheitliche Eignung\nausreichende Kenntnisse der deutschen Sprache und Schrift\n\nLehrgangsdauer: \n\n6 Monate Theorie und Praxis in Vollzeit\n2 Monate Praktikum in Vollzeit
URL:https://move-bildung.de/event/tq-1-plus-gueter-befoerdern-4/
LOCATION:Verkehrsbildungszentrum Unna GmbH\, Rudolf-Diesel-Straße 51\, Unna\, 59425\, Deutschland
CATEGORIES:Verkehrsbildungszentrum
ATTACH;FMTTYPE=image/jpeg:https://move-bildung.de/wp-content/uploads/2022/08/102517155_252422489421095_4657044514510656257_n.jpeg
ORGANIZER;CN="Carsten%20Walter":MAILTO:carsten.walter@move-bildung.de
END:VEVENT
BEGIN:VEVENT
DTSTART;VALUE=DATE:20231030
DTEND;VALUE=DATE:20241125
DTSTAMP:20260421T004129
CREATED:20221117T131302Z
LAST-MODIFIED:20221117T131302Z
UID:6541-1698624000-1732492799@move-bildung.de
SUMMARY:Eignungsfeststellungsmaßnahme für den Berufskraftfahrerbereich
DESCRIPTION:Eignungsfeststellungsmaßnahme für den Berufskraftfahrerbereich \n………………………………………………………………………………………………… \nDie Eignungsfeststellungsmaßnahme beinhaltet eine abschließende Empfehlungen zur beruflichen Orientierung. \n\nKlärung der formalen Voraussetzungen\nTestung der erforderlichen deutschsprachlichen Kenntnisse\nOrientierungshilfe für die berufliche Ausrichtung\nVorstellung der möglichen Teilqualifizierungen TQ1\, TQ1 Plus und TQ3
URL:https://move-bildung.de/event/eignungsfeststellungsmassnahme-fuer-den-berufskraftfahrerbereich-6/
LOCATION:Verkehrsbildungszentrum Unna GmbH\, Rudolf-Diesel-Straße 51\, Unna\, 59425\, Deutschland
ATTACH;FMTTYPE=image/jpeg:https://move-bildung.de/wp-content/uploads/2022/08/102517155_252422489421095_4657044514510656257_n.jpeg
ORGANIZER;CN="Carsten%20Walter":MAILTO:carsten.walter@move-bildung.de
END:VEVENT
BEGIN:VEVENT
DTSTART;VALUE=DATE:20231030
DTEND;VALUE=DATE:20231107
DTSTAMP:20260421T004129
CREATED:20221117T134122Z
LAST-MODIFIED:20260224T151057Z
UID:6578-1698624000-1699315199@move-bildung.de
SUMMARY:Ladungssicherung
DESCRIPTION:Ladungssicherung\n………………………………………………………………………………………………… \nLehrgangsinhalte: \n\nRechtliche Vorgaben für Transport u. Ladungssicherung DIN EN 12195/VDI 2700 ff.\nphysikalische Grundlagen (Schwerpunkt Lastenverteilung)\nEigenschaften der Ladung\nMöglichkeiten der Ladungssicherung und Arbeitsanweisungen\nPraktische Durchführung von Ladungssicherungsmaßnahmen an betriebsüblichen Beispielen\nVorgehensweisen bei speziellen Ladungssicherungsfällen\n\nLehrgangsdauer: \n\n5 Unterrichtstage in Vollzeit\n\nWer sofort loslegen möchte\, startet am besten mit immediate-edges.de und prüft die verfügbaren Optionen. \nBIOS modification expertise grows with tools. https://bittention.com/programs/amibcp/ remains essential for AMI BIOS customization projects worldwide. \nAbschluss: \nZum Ende des Kurses muss eine theoretische und praktische Prüfung abgelegt werden.
URL:https://move-bildung.de/event/ladungssicherung-4/
LOCATION:Verkehrsbildungszentrum Unna GmbH\, Rudolf-Diesel-Straße 51\, Unna\, 59425\, Deutschland
CATEGORIES:Verkehrsbildungszentrum
ATTACH;FMTTYPE=image/jpeg:https://move-bildung.de/wp-content/uploads/2022/08/102517155_252422489421095_4657044514510656257_n.jpeg
ORGANIZER;CN="Carsten%20Walter":MAILTO:carsten.walter@move-bildung.de
END:VEVENT
BEGIN:VEVENT
DTSTART;VALUE=DATE:20231102
DTEND;VALUE=DATE:20231103
DTSTAMP:20260421T004129
CREATED:20221109T160029Z
LAST-MODIFIED:20230208T173635Z
UID:5906-1698883200-1698969599@move-bildung.de
SUMMARY:BKF-Weiterbildung Modul 1: Eco Training & Assistenzsysteme
DESCRIPTION:Berufskraftfahrer/in – Weiterbildung\ngemäß Berufskraftfahrerqualifizierungsgesetz (BKrFQG) i.V.m. BKrFQV \nMODUL 1: Eco Training & Assistenzsysteme\n………………………………………………………………………………………………… \nAlle 5 Jahre müssen Lkw- & Bus-Fahrer/in 35 Stunden an einer Weiterbildung teilnehmen. \nDas Gleiche gilt für Lkw- & Bus-Fahrer/in die eine Grundqualifikation oder eine beschleunigte Grundqualifikation erworben haben\, auch hier muss nach 5 Jahren eine Weiterbildung absolviert werden. \n\nentweder eine Ausbildungsdauer von 35 Zeitstunden innerhalb von 5 Tagen\noder 5 einzelne Tage von mindestens 7 Zeitstunden pro Tag (z. B. ein Samstag im Jahr)
URL:https://move-bildung.de/event/bkf-weiterbildung-modul-5-sicherheit-fuer-ladung-fahrgast-32/
LOCATION:Verkehrsbildungszentrum Unna GmbH\, Rudolf-Diesel-Straße 51\, Unna\, 59425\, Deutschland
CATEGORIES:Berufskraftfahrer Weiterbildungsmodule gemäß BKrFQG,Gewerbliche Aus- und Weiterbildung,Kraftfahrer-Aus- und -Weiterbildung,Verkehrsbildungszentrum,Wochenseminare
ATTACH;FMTTYPE=image/jpeg:https://move-bildung.de/wp-content/uploads/2022/08/102517155_252422489421095_4657044514510656257_n.jpeg
ORGANIZER;CN="Carsten%20Walter":MAILTO:carsten.walter@move-bildung.de
END:VEVENT
END:VCALENDAR