BEGIN:VCALENDAR
VERSION:2.0
PRODID:-//Move-Bildung - ECPv5.16.4//NONSGML v1.0//EN
CALSCALE:GREGORIAN
METHOD:PUBLISH
X-ORIGINAL-URL:https://move-bildung.de
X-WR-CALDESC:Veranstaltungen für Move-Bildung
REFRESH-INTERVAL;VALUE=DURATION:PT1H
X-Robots-Tag:noindex
X-PUBLISHED-TTL:PT1H
BEGIN:VTIMEZONE
TZID:Europe/Berlin
BEGIN:DAYLIGHT
TZOFFSETFROM:+0100
TZOFFSETTO:+0200
TZNAME:CEST
DTSTART:20240331T010000
END:DAYLIGHT
BEGIN:STANDARD
TZOFFSETFROM:+0200
TZOFFSETTO:+0100
TZNAME:CET
DTSTART:20241027T010000
END:STANDARD
END:VTIMEZONE
BEGIN:VEVENT
DTSTART;TZID=Europe/Berlin:20240120T080000
DTEND;TZID=Europe/Berlin:20240120T160000
DTSTAMP:20260421T045143
CREATED:20230921T115100Z
LAST-MODIFIED:20230921T115132Z
UID:8873-1705737600-1705766400@move-bildung.de
SUMMARY:8h PKW Intensiv-Training ( inkl. MwSt.)
DESCRIPTION:Ob Geraden ( griffig/ glatt) oder Kurven ( griffig/glatt)\, wir nehmen sie alle mit Spaß und dem richtigen Handlungsmuster\, welches man im Vorfeld umzusetzen lernt. \nDer Streifzug durch die Jahreszeit beginnt bei uns mit einem Handlingsparcours und wird dann in den Sommer (asphaltierte Fahrbahn)\, \nden Herbst und den Winter ( Fahrbahn mit niedrigem Gripniveau) geführt. \nDas Schöne dabei ist\, das man nicht nur geradeaus fährt sondern auch Kurven- und Ausweichübungen fährt. \n  \nMax. Teilnehmeranzahl: 12
URL:https://move-bildung.de/event/8h-pkw-intensiv-training-inkl-mwst-3/
LOCATION:Fahrsicherheitszentrum Unna GmbH\, Rudolf-Diesel-Straße 51\, Unna\, 59425\, Deutschland
CATEGORIES:8-Stunden Trainings,Fahrsicherheitszentrum,PKW Intensiv-Training
ORGANIZER;CN="Svetlana%20Gronau":MAILTO:svetlana.gronau@move-bildung.de
END:VEVENT
BEGIN:VEVENT
DTSTART;VALUE=DATE:20240219
DTEND;VALUE=DATE:20240224
DTSTAMP:20260421T045143
CREATED:20221201T143841Z
LAST-MODIFIED:20230605T094851Z
UID:6853-1708300800-1708732799@move-bildung.de
SUMMARY:ADR Gefahrgut Basis und Tank
DESCRIPTION:ADR Basiskurs (Stück- und Stückgutbeförderungen) \n\n………………………………………………………………………………………………… \nJeder Fahrer\, der ein kennzeichnungspflichtiges Gefahrgut befördern möchte\, muss gemäß Kapitel 8.2 (ADR) besonders geschult werden. Desweiteren muss der Fahrer über eine gültige Fahrerlaubnis für das zum Gefahrguttransport vorgesehene Fahrzeug verfügen und eine Prüfung als Gefahrgutfahrer vor der Industrie- und Handelsammer (IHK) ablegen. \nLehrgangsinhalte: \n\nAllgemeine Vorschriften\nÜberwachung der Beförderung\nErste Hilfe\, Verkehrssicherung\, Feuerlöschübung\nZusammenladen in Fahrzeugen und Containern\nVorschriftsmaßnahmen beim Be- und Entladen von Gefahrgütern\nHaftung\, Ordnungswidrigkeiten\nBezettelung und Kennzeichnung\nUmgang mit Versandstücken\, Ladungssicherung (praktische Übung)\nKenntnisse über Schutzmaßnahmen\nBegleit- und Beförderungspapiere\nTunnelregelungen\n\nVoraussetzungen: \n\nKeine\n\nLehrgangsdauer: \n\n\n1. Tag: 08.00 – 15.00 Uhr\n2. Tag: 08.00 – 15.00 Uhr\n3. Tag: 08.00 – 11.15 Uhr\n2\,5 Tage = (19 UE Theorie + 45 Minuten Prüfung durch die IHK)\n\nAbschluss: \n\nZum Ende des Kurses muss eine schriftliche Prüfung vor der Industrie- und Handelskammer abgelegt werden. Nach der bestandenen Prüfung wird von der IHK eine ADR-Bescheinigung ausgestellt. \n\nTeilnehmerzahl: Mindestens 5 Personen\, maximal 25 Personen. \n\n\nGerne vereinbaren wir individuelle Gruppentermine!
URL:https://move-bildung.de/event/adr-gefahrengut-basiskurs-2/
LOCATION:Verkehrsbildungszentrum Unna GmbH\, Rudolf-Diesel-Straße 51\, Unna\, 59425\, Deutschland
CATEGORIES:ADR Basiskurs (Stück- und Stückgutbeförderungen)
ATTACH;FMTTYPE=image/jpeg:https://move-bildung.de/wp-content/uploads/2022/08/102517155_252422489421095_4657044514510656257_n.jpeg
ORGANIZER;CN="Carsten%20Walter":MAILTO:carsten.walter@move-bildung.de
END:VEVENT
BEGIN:VEVENT
DTSTART;VALUE=DATE:20240221
DTEND;VALUE=DATE:20240224
DTSTAMP:20260421T045143
CREATED:20221201T144125Z
LAST-MODIFIED:20221201T144125Z
UID:6857-1708473600-1708732799@move-bildung.de
SUMMARY:ADR Aufbaukurs Tank
DESCRIPTION:ADR Aufbaukurs Tank (Beförderung gefährlicher Güter in Tanks) \n\n………………………………………………………………………………………………… \nDer Aufbaukurs Tank richtet sich an alle Fahrer\, die gefährliche Güter in Tankfahrzeugen oder Tankcontainern auf öffentlichen Straßen transportieren sollen.?Es werden Kenntnisse und Befähigungen zur Durchführung und Beförderung als Fahrzeugführer von Tankfahrzeugen aller Gefahrgutklassen\, außer Klasse 1 und 7\, die im Straßenverkehr vorgeschrieben sind vermittelt. \nLehrgangsinhalte: \n\nAllgemeine Vorschriften\nAllgemeine Gefahreneingenschaften\nDokumentation\nFahrzeug- und Beförderungsarten\, Umschließungen\, Ausrüstung\nKennzeichnung\, Bezettelung und orangenfarbene Tafeln\nDurchführung der Beförderung\nPflichten und Verantwortlichkeiten\, Sanktionen\nMaßnahmen nach Unfällen und Zwischenfällen\n\nVoraussetzungen: \n\nGültige ADR-Bescheinigung Basis für Stück- und Schüttgut\n\nLehrgangsdauer: \n\n\n1. Tag: 11.30 – 15.00 Uhr\n2. Tag: 08.00 – 15.00 Uhr\n3. Tag: IHK-Prüfung\n1\,5 Tage = (12 UE Theorie + 1 UE praktische Übungen + 45 Minuten Prüfung durch die IHK)\n\nAbschluss: \n\nZum Ende des Kurses muss eine schriftliche Prüfung vor der Industrie- und Handelskammer abgelegt werden. Nach der bestandenen Prüfung wird von der IHK eine ADR-Bescheinigung ausgestellt. \n\nTeilnehmerzahl: Mindestens 5 Personen\, maximal 25 Personen.\nGerne vereinbaren wir individuelle Gruppentermine!
URL:https://move-bildung.de/event/adr-aufbaukurs-tank-6/
LOCATION:Verkehrsbildungszentrum Unna GmbH\, Rudolf-Diesel-Straße 51\, Unna\, 59425\, Deutschland
CATEGORIES:ADR Aufbaukurs (Beförderungen gefährlicher Güter in Tanks)
ATTACH;FMTTYPE=image/jpeg:https://move-bildung.de/wp-content/uploads/2022/08/102517155_252422489421095_4657044514510656257_n.jpeg
ORGANIZER;CN="Carsten%20Walter":MAILTO:carsten.walter@move-bildung.de
END:VEVENT
BEGIN:VEVENT
DTSTART;VALUE=DATE:20240226
DTEND;VALUE=DATE:20240302
DTSTAMP:20260421T045143
CREATED:20221117T135336Z
LAST-MODIFIED:20240901T101410Z
UID:6593-1708905600-1709337599@move-bildung.de
SUMMARY:Ladungssicherung nach VDI 2700a
DESCRIPTION:Ladungssicherung\n………………………………………………………………………………………………… \nLehrgangsinhalte: \n\nRechtliche Vorgaben für Transport u. Ladungssicherung DIN EN 12195/VDI 2700 ff.\nphysikalische Grundlagen (Schwerpunkt Lastenverteilung)\nEigenschaften der Ladung\nMöglichkeiten der Ladungssicherung und Arbeitsanweisungen\nPraktische Durchführung von Ladungssicherungsmaßnahmen an betriebsüblichen Beispielen\nVorgehensweisen bei speziellen Ladungssicherungsfällen\n\nLehrgangsdauer: \n\n5 Unterrichtstage in Vollzeit\n\nAbschluss: \nZum Ende des Kurses muss eine theoretische und praktische Prüfung abgelegt werden.
URL:https://move-bildung.de/event/ladungssicherung-6/
LOCATION:Verkehrsbildungszentrum Unna GmbH\, Rudolf-Diesel-Straße 51\, Unna\, 59425\, Deutschland
CATEGORIES:Gewerbliche Aus- und Weiterbildung,Ladungssicherung,Verkehrsbildungszentrum
ATTACH;FMTTYPE=image/jpeg:https://move-bildung.de/wp-content/uploads/2022/08/102517155_252422489421095_4657044514510656257_n.jpeg
ORGANIZER;CN="Carsten%20Walter":MAILTO:carsten.walter@move-bildung.de
END:VEVENT
BEGIN:VEVENT
DTSTART;VALUE=DATE:20240304
DTEND;VALUE=DATE:20240309
DTSTAMP:20260421T045143
CREATED:20221201T143943Z
LAST-MODIFIED:20221201T143943Z
UID:6855-1709510400-1709942399@move-bildung.de
SUMMARY:Gabelstapler-Ausbildung
DESCRIPTION:Gabelstapler-Ausbildung \n\n\n………………………………………………………………………………………………… \nLehrgangsinhalte: \n\nRechtliche Grundlagen\nUnfallgeschehen\nAufbau- und Funktion von Flurförderzeugen\nBetrieb allgemein – Standsicherung im Speziellen\nUmgang mit Last und technische Prüfungen\nFahrübungen nach DGUV Grundsatz 308-001 und Praxistraining\n\nLehrgangsdauer: \n\n5 Unterrichtstage in Vollzeit\n\nAbschluss: \nZum Ende des Kurses muss eine theoretische und praktische Prüfung abgelegt werden.
URL:https://move-bildung.de/event/gabelstapler-ausbildung-6/
LOCATION:Verkehrsbildungszentrum Unna GmbH\, Rudolf-Diesel-Straße 51\, Unna\, 59425\, Deutschland
CATEGORIES:Flurförderzeugfahrer (Gabelstapler),Verkehrsbildungszentrum
ATTACH;FMTTYPE=image/jpeg:https://move-bildung.de/wp-content/uploads/2022/08/102517155_252422489421095_4657044514510656257_n-1.jpeg
ORGANIZER;CN="Carsten%20Walter":MAILTO:carsten.walter@move-bildung.de
END:VEVENT
BEGIN:VEVENT
DTSTART;VALUE=DATE:20240311
DTEND;VALUE=DATE:20240316
DTSTAMP:20260421T045143
CREATED:20221201T145755Z
LAST-MODIFIED:20221201T145755Z
UID:6873-1710115200-1710547199@move-bildung.de
SUMMARY:Ladekran-Ausbildung nach DGUV-Vorschrift 52
DESCRIPTION:Ladekran-Ausbildung nach DGUV-Vorschrift 52 \n\nBedienerausweis für Ladekran\n\n………………………………………………………………………………………………… \nSchulungsinhalte: \n\nSicherheitsbestimmungen\nArten von Ladekränen\nHydraulik\nHebegesetze und Belastungsgrenzen (Diagramm)\nFachrechnen\nPraktische Ladekranübungen\n\nSchulungsdauer: \n\n5 Unterrichtstage in Vollzeit\n\nAbschluss: \nDie Schulung endet mit einer theoretischen und praktischen Prüfung.
URL:https://move-bildung.de/event/ladekran-ausbildung-nach-dguv-vorschrift-52-6/
LOCATION:Verkehrsbildungszentrum Unna GmbH\, Rudolf-Diesel-Straße 51\, Unna\, 59425\, Deutschland
CATEGORIES:Ladekranführer,Verkehrsbildungszentrum
ATTACH;FMTTYPE=image/jpeg:https://move-bildung.de/wp-content/uploads/2022/08/102517155_252422489421095_4657044514510656257_n-1.jpeg
ORGANIZER;CN="Carsten%20Walter":MAILTO:carsten.walter@move-bildung.de
END:VEVENT
BEGIN:VEVENT
DTSTART;TZID=Europe/Berlin:20240316T080000
DTEND;TZID=Europe/Berlin:20240316T160000
DTSTAMP:20260421T045143
CREATED:20240103T144043Z
LAST-MODIFIED:20240103T144043Z
UID:8960-1710576000-1710604800@move-bildung.de
SUMMARY:Motorrad 8h Wiedereinsteiger-/ Basis Training
DESCRIPTION:Unser Kurs für alle\, die ganz frisch auf dem Bike sind oder sehr lange nicht mehr gefahren sind. \nHier haben wir gemeinsam die Zeit\, uns um jeden ausgiebig zu kümmern und den sicheren Umgang mit der eigenen Maschine umzusetzen ( bis 50 km/h). \n  \nInhalte: \nrichtige Sitzposition\, Blickführung\, Lenktechnik\, langsamer Slalom\, Stop-and-Go\, Bewältigung von verschiedenen Fahrsituationen\, erlernen von Handlungsmustern. \nMax. Teilnehmeranzahl: 10
URL:https://move-bildung.de/event/motorrad-8h-wiedereinsteiger-basis-training/
LOCATION:Fahrsicherheitszentrum Unna GmbH\, Rudolf-Diesel-Straße 51\, Unna\, 59425\, Deutschland
CATEGORIES:8-Stunden Trainings,Fahrsicherheitszentrum,Motorrad Wiedereinsteiger-Training
ORGANIZER;CN="Svetlana%20Gronau":MAILTO:svetlana.gronau@move-bildung.de
END:VEVENT
BEGIN:VEVENT
DTSTART;TZID=Europe/Berlin:20240526T080000
DTEND;TZID=Europe/Berlin:20240526T120000
DTSTAMP:20260421T045143
CREATED:20240103T100856Z
LAST-MODIFIED:20240103T100934Z
UID:8940-1716710400-1716724800@move-bildung.de
SUMMARY:4h Motorrad Schräglage Training
DESCRIPTION:Bei unseren Schräglage Trainings geht es primär darum\, Ängste abzubauen und das Vertrauen in das Motorrad und den Reifen zu erhöhen. \nUnsere zwei Auslegermotorräder dienen den Teilnehmern zum Kennenlernen der Schräglagengrenzen\, um diese auf Wunsch auch weiter ausbauen zu können. \nSicherheit in der Schräglage erhalten und das richtige Verhalten in der Schräglage üben\, um diese Sensibilisierung später auf das eigene Motorrad übertragen zu können. \nBitte bringen Sie zum Training Ihr eigenes Motorrad mit. \n  \nInhalte: \nSchräglagengrenze erfahren und ggf. erweitern\, Blicktechnik\, Kurvenstile\, legen/drücken/hanging off\, Kurvenlinien. \nMax. Teilnehmeranzahl: 10
URL:https://move-bildung.de/event/4h-motorrad-schraeglage-training/
LOCATION:Fahrsicherheitszentrum Unna GmbH\, Rudolf-Diesel-Straße 51\, Unna\, 59425\, Deutschland
CATEGORIES:4-Stunden Trainings,Fahrsicherheitszentrum,Motorrad Schräglagen-Training mit Ausleger
ORGANIZER;CN="Svetlana%20Gronau":MAILTO:svetlana.gronau@move-bildung.de
END:VEVENT
BEGIN:VEVENT
DTSTART;TZID=Europe/Berlin:20240526T123000
DTEND;TZID=Europe/Berlin:20240526T163000
DTSTAMP:20260421T045143
CREATED:20240103T101317Z
LAST-MODIFIED:20240308T132914Z
UID:8944-1716726600-1716741000@move-bildung.de
SUMMARY:Motorrad 4h Kurve II ( inkl. MwSt. )
DESCRIPTION:Sie haben beim Kurven I Training mitgemacht und wollen Ihre Kurventechnik weiter verbessern? \nJe mehr Kurven\, desto schöner die Strecke und je sicherer die Kurventechnik\, desto größer das Fahrvergnügen. \nWir helfen jedem dabei\, seine gesteckten Ziele zu erreichen und nehmen uns noch mehr Zeit dafür\, da dies mit weniger Teilnehmern leichter umzusetzen ist. \nKleine Gruppen- Viel Praxis- und noch viel mehr Spaß. \n  \nInhalte: \nKurvenstile\, unterschiedliche Kurvenlinien\, Blickführung\, Einschätzen und ggf. Erhöhung der eigenen Schräglage. \n  \nMax. Teilnehmeranzahl: 6
URL:https://move-bildung.de/event/motorrad-4h-kurventraining/
LOCATION:Fahrsicherheitszentrum Unna GmbH\, Rudolf-Diesel-Straße 51\, Unna\, 59425\, Deutschland
CATEGORIES:4-Stunden Trainings,Fahrsicherheitszentrum,Motorrad Kurven-Training
ORGANIZER;CN="Svetlana%20Gronau":MAILTO:svetlana.gronau@move-bildung.de
END:VEVENT
BEGIN:VEVENT
DTSTART;TZID=Europe/Berlin:20240602T080000
DTEND;TZID=Europe/Berlin:20240602T160000
DTSTAMP:20260421T045143
CREATED:20240103T101541Z
LAST-MODIFIED:20240103T101647Z
UID:8948-1717315200-1717344000@move-bildung.de
SUMMARY:8h Motorrad Intensivtraining
DESCRIPTION:Dieser Kurs richtet sich an alle\, die im Umgang mit dem Motorrad noch sicherer werden wollen. \nInhalte aus dem Wiedereinsteiger -Training\, werden übernommen und in Auslegung und Geschwindigkeit geändert (max. 70km/h) \n  \nInhalte: \nVerfeinerung des Balancegefühls\, Langsam-Fahrübungen/ Blicktechnik\, Legen/drücken\, Notbremsung auch in der Kurve\, Ausweichen auf der Bremse\, Hindernisüberfahrt in der Kurve \nMax. Teilnehmeranzahl: 12
URL:https://move-bildung.de/event/8h-motorrad-intensivtraining/
LOCATION:Fahrsicherheitszentrum Unna GmbH\, Rudolf-Diesel-Straße 51\, Unna\, 59425\, Deutschland
CATEGORIES:8-Stunden Trainings,Fahrsicherheitszentrum,Motorrad Intensiv-Training
ORGANIZER;CN="Svetlana%20Gronau":MAILTO:svetlana.gronau@move-bildung.de
END:VEVENT
BEGIN:VEVENT
DTSTART;TZID=Europe/Berlin:20240707T080000
DTEND;TZID=Europe/Berlin:20240707T160000
DTSTAMP:20260421T045143
CREATED:20240103T105538Z
LAST-MODIFIED:20240103T105538Z
UID:8952-1720339200-1720368000@move-bildung.de
SUMMARY:Motorrad 8h Intensivtraining
DESCRIPTION:Dieser Kurs richtet sich an alle\, die im Umgang mit dem Motorrad noch sicherer werden wollen. \nInhalte aus dem Wiedereinsteiger -Training\, werden übernommen und in Auslegung und Geschwindigkeit geändert (max. 70km/h) \n  \nInhalte: \nVerfeinerung des Balancegefühls\, Langsam-Fahrübungen/ Blicktechnik\, Legen/drücken\, Notbremsung auch in der Kurve\, Ausweichen auf der Bremse\, Hindernisüberfahrt in der Kurve \nMax. Teilnehmeranzahl: 12
URL:https://move-bildung.de/event/motorrad-8h-intensivtraining/
LOCATION:Fahrsicherheitszentrum Unna GmbH\, Rudolf-Diesel-Straße 51\, Unna\, 59425\, Deutschland
CATEGORIES:8-Stunden Trainings,Fahrsicherheitszentrum,Motorrad Intensiv-Training
END:VEVENT
BEGIN:VEVENT
DTSTART;TZID=Europe/Berlin:20240825T080000
DTEND;TZID=Europe/Berlin:20240825T120000
DTSTAMP:20260421T045143
CREATED:20240311T121029Z
LAST-MODIFIED:20240311T121029Z
UID:9020-1724572800-1724587200@move-bildung.de
SUMMARY:Motorrad 4h Training Kurve I ( inkl. MwSt.)
DESCRIPTION:Hier lernen Sie alles Notwendige für das Kurvenfahren. \nUnser Auslegermotorrad steht Ihnen dabei zur Verfügung und kann bei Bedarf ins Training involviert werden. \nEs ist von Vorteil\, wenn Sie bereits ein 8h Training absolviert haben. \n  \nInhalte: \nAnfahren von Kurven/ Kurvenkombinationen\, Bremsen in der Kurve\, Ausweichen in der Kurve\, Einschätzen der eigenen Schräglage\, alle Elemente aus den Starter 8h Trainings auffrischen. \nMax. Teilnehmeranzahl: 8
URL:https://move-bildung.de/event/motorrad-4h-training-kurve-i-inkl-mwst/
LOCATION:Fahrsicherheitszentrum Unna GmbH\, Rudolf-Diesel-Straße 51\, Unna\, 59425\, Deutschland
CATEGORIES:4-Stunden Trainings,Fahrsicherheitszentrum,Motorrad Kurven-Training
ORGANIZER;CN="Svetlana%20Gronau":MAILTO:svetlana.gronau@move-bildung.de
END:VEVENT
END:VCALENDAR