BEGIN:VCALENDAR
VERSION:2.0
PRODID:-//Move-Bildung - ECPv5.16.4//NONSGML v1.0//EN
CALSCALE:GREGORIAN
METHOD:PUBLISH
X-ORIGINAL-URL:https://move-bildung.de
X-WR-CALDESC:Veranstaltungen für Move-Bildung
REFRESH-INTERVAL;VALUE=DURATION:PT1H
X-Robots-Tag:noindex
X-PUBLISHED-TTL:PT1H
BEGIN:VTIMEZONE
TZID:Europe/Berlin
BEGIN:DAYLIGHT
TZOFFSETFROM:+0100
TZOFFSETTO:+0200
TZNAME:CEST
DTSTART:20240331T010000
END:DAYLIGHT
BEGIN:STANDARD
TZOFFSETFROM:+0200
TZOFFSETTO:+0100
TZNAME:CET
DTSTART:20241027T010000
END:STANDARD
END:VTIMEZONE
BEGIN:VEVENT
DTSTART;TZID=Europe/Berlin:20240825T080000
DTEND;TZID=Europe/Berlin:20240825T120000
DTSTAMP:20260420T052721
CREATED:20240311T121029Z
LAST-MODIFIED:20240311T121029Z
UID:9020-1724572800-1724587200@move-bildung.de
SUMMARY:Motorrad 4h Training Kurve I ( inkl. MwSt.)
DESCRIPTION:Hier lernen Sie alles Notwendige für das Kurvenfahren. \nUnser Auslegermotorrad steht Ihnen dabei zur Verfügung und kann bei Bedarf ins Training involviert werden. \nEs ist von Vorteil\, wenn Sie bereits ein 8h Training absolviert haben. \n  \nInhalte: \nAnfahren von Kurven/ Kurvenkombinationen\, Bremsen in der Kurve\, Ausweichen in der Kurve\, Einschätzen der eigenen Schräglage\, alle Elemente aus den Starter 8h Trainings auffrischen. \nMax. Teilnehmeranzahl: 8
URL:https://move-bildung.de/event/motorrad-4h-training-kurve-i-inkl-mwst/
LOCATION:Fahrsicherheitszentrum Unna GmbH\, Rudolf-Diesel-Straße 51\, Unna\, 59425\, Deutschland
CATEGORIES:4-Stunden Trainings,Fahrsicherheitszentrum,Motorrad Kurven-Training
ORGANIZER;CN="Svetlana%20Gronau":MAILTO:svetlana.gronau@move-bildung.de
END:VEVENT
END:VCALENDAR