BEGIN:VCALENDAR
VERSION:2.0
PRODID:-//Move-Bildung - ECPv5.16.4//NONSGML v1.0//EN
CALSCALE:GREGORIAN
METHOD:PUBLISH
X-WR-CALNAME:Move-Bildung
X-ORIGINAL-URL:https://move-bildung.de
X-WR-CALDESC:Veranstaltungen für Move-Bildung
REFRESH-INTERVAL;VALUE=DURATION:PT1H
X-Robots-Tag:noindex
X-PUBLISHED-TTL:PT1H
BEGIN:VTIMEZONE
TZID:Europe/Berlin
BEGIN:DAYLIGHT
TZOFFSETFROM:+0100
TZOFFSETTO:+0200
TZNAME:CEST
DTSTART:20220327T010000
END:DAYLIGHT
BEGIN:STANDARD
TZOFFSETFROM:+0200
TZOFFSETTO:+0100
TZNAME:CET
DTSTART:20221030T010000
END:STANDARD
END:VTIMEZONE
BEGIN:VEVENT
DTSTART;TZID=Europe/Berlin:20220920T080000
DTEND;TZID=Europe/Berlin:20220920T170000
DTSTAMP:20260420T183556
CREATED:20220919T195302Z
LAST-MODIFIED:20220919T195302Z
UID:4626-1663660800-1663693200@move-bildung.de
SUMMARY:Test123
DESCRIPTION:5657676fghvghvhgvgvgvghhgv
URL:https://move-bildung.de/event/test123/
LOCATION:Move Bildung GmbH\, Heilbronnerstr\, Ludwigsburg\, BW\, 71634\, Deutschland
CATEGORIES:Samstagsseminare
ATTACH;FMTTYPE=image/jpeg:https://move-bildung.de/wp-content/uploads/2022/09/6b53d57742.jpg
END:VEVENT
BEGIN:VEVENT
DTSTART;VALUE=DATE:20220823
DTEND;VALUE=DATE:20220826
DTSTAMP:20260420T183556
CREATED:20220822T082021Z
LAST-MODIFIED:20220822T082021Z
UID:4397-1661212800-1661471999@move-bildung.de
SUMMARY:Test Veranstaltung
DESCRIPTION:Trainer Fortbildung nach § 7 BKrFQV\n………………………………………………………………………………………………… \nAusbilder und Ausbilderinnen\, die Unterrichte im Sinne des § 2 Abs. 2 und des § 4 Abs. 2 durchführen\, haben ihre Kenntnisse regelmäßig durch eine Fortbildung (24 Stunden à 60 Min.)\, die alle Gebiete (Kenntnisbereiche 1-3) erfassen soll\, die für diese berufliche Tätigkeit des Ausbilders oder der Ausbilderin von Bedeutung sind\, zu aktualisieren. \nSie ist spätestens alle 4 Jahre zu absolvieren. \nDer Unterricht im Sinne des § 2 Abs. 2 und des § 4 Abs. 2 darf nicht von Ausbildern oder Ausbilderinnen\, die sich nicht regelmäßig fortbilden\, durchgeführt werden. \nMusterablauf unserer möglichen Themen \nTag 1: (08:00 – 17:45 Uhr\, inkl. Pausen) \nZ. B.: \n\nFahrsicherheitssysteme in Theorie und Praxis\nFahrsicherheitstraining für LKW\nUnfallvermeidung\, Ausweichübungen\, Vertiefung der gelernten Inhalte\nDozent: Hoger Heberle\n\nTag 2: (08:00 – 17:45 Uhr\, inkl. Pausen) \nZ. B.: \n\nDigitaler Tachograph/Arbeitsrecht\nDokumentation\nAuswertung von Aufzeichnungen\nBesondere Situationen\nDoznt: Immanuel Noske\n\nTag 3: (08:00 – 18:00 Uhr\, inkl. Pausen) \nZ. B.: \n\nNeue Rechtsvorschriften der Ladungssicherung\nOptimierte Möglichkeiten der Ladungssicherung\nAnforderungen aus der täglichen Praxis\nNeue Erkenntnisse für Aufbau- und Zurrpunktfestigkeiten\nWeitere Hilfsmittel zur Ladungssicherung\nDozent: Holger Lemmer\n\nDie tatsächlichen Themeninhalte können zu den einzelnen Terminen variieren.\nGerne können Sie sich bei uns für Ihren Wunschtermin nach den Themeninhalten erkundigen. \n\n	\n		\n	\n	\n	\n	\n		production ID_4524438
URL:https://move-bildung.de/event/test-veranstaltung/
LOCATION:Move Bildung GmbH\, Heilbronnerstr\, Ludwigsburg\, BW\, 71634\, Deutschland
CATEGORIES:ADR / Gefahrgut,ADR Aufbaukurs Klasse 1 (explosive Stoffe)
ATTACH;FMTTYPE=image/jpeg:https://move-bildung.de/wp-content/uploads/2022/04/pexels-kindel-media-8550825-scaled.jpg
END:VEVENT
BEGIN:VEVENT
DTSTART;VALUE=DATE:20220817
DTEND;VALUE=DATE:20220927
DTSTAMP:20260420T183556
CREATED:20220817T193602Z
LAST-MODIFIED:20220817T193602Z
UID:4064-1660694400-1664236799@move-bildung.de
SUMMARY:Fortbildung der Ausbilder
DESCRIPTION:Trainer Fortbildung nach § 7 BKrFQV \nAusbilder und Ausbilderinnen\, die Unterrichte im Sinne des § 2 Abs. 2 und des § 4 Abs. 2 durchführen\, haben ihre Kenntnisse regelmäßig durch eine Fortbildung (24 Stunden à 60 Min.)\, die alle Gebiete (Kenntnisbereiche 1-3) erfassen soll\, die für diese berufliche Tätigkeit des Ausbilders oder der Ausbilderin von Bedeutung sind\, zu aktualisieren. \nSie ist spätestens alle 4 Jahre zu absolvieren. \nDer Unterricht im Sinne des § 2 Abs. 2 und des § 4 Abs. 2 darf nicht von Ausbildern oder Ausbilderinnen\, die sich nicht regelmäßig fortbilden\, durchgeführt werden. \nMusterablauf unserer möglichen Themen \nTag 1: (08:00 – 17:45 Uhr\, inkl. Pausen) \nZ. B.: \n\nFahrsicherheitssysteme in Theorie und Praxis\nFahrsicherheitstraining für LKW\nUnfallvermeidung\, Ausweichübungen\, Vertiefung der gelernten Inhalte\nDozent: Hoger Heberle\n\nTag 2: (08:00 – 17:45 Uhr\, inkl. Pausen) \nZ. B.: \n\nDigitaler Tachograph/Arbeitsrecht\nDokumentation\nAuswertung von Aufzeichnungen\nBesondere Situationen\nDoznt: Immanuel Noske\n\nTag 3: (08:00 – 18:00 Uhr\, inkl. Pausen) \nZ. B.: \n\nNeue Rechtsvorschriften der Ladungssicherung\nOptimierte Möglichkeiten der Ladungssicherung\nAnforderungen aus der täglichen Praxis\nNeue Erkenntnisse für Aufbau- und Zurrpunktfestigkeiten\nWeitere Hilfsmittel zur Ladungssicherung\nDozent: Holger Lemmer\n\nDie tatsächlichen Themeninhalte können zu den einzelnen Terminen variieren.\nGerne können Sie sich bei uns für Ihren Wunschtermin nach den Themeninhalten erkundigen. \n\n		\n	\n	\n	\n	\n		production ID_4524438
URL:https://move-bildung.de/event/fortbildung-der-ausbilder-2/
LOCATION:Move Bildung GmbH\, Heilbronnerstr\, Ludwigsburg\, BW\, 71634\, Deutschland
CATEGORIES:Ausbildung zum Fahrlehrer,Erweiterungslehrgang Klasse A (Motorrad)
ATTACH;FMTTYPE=image/jpeg:https://move-bildung.de/wp-content/uploads/2022/02/img.jpeg
END:VEVENT
BEGIN:VEVENT
DTSTART;VALUE=DATE:20220817
DTEND;VALUE=DATE:20220927
DTSTAMP:20260420T183556
CREATED:20220817T181902Z
LAST-MODIFIED:20220817T193548Z
UID:4043-1660694400-1664236799@move-bildung.de
SUMMARY:Fortbildung der Ausbilder
DESCRIPTION:Trainer Fortbildung nach § 7 BKrFQV \nAusbilder und Ausbilderinnen\, die Unterrichte im Sinne des § 2 Abs. 2 und des § 4 Abs. 2 durchführen\, haben ihre Kenntnisse regelmäßig durch eine Fortbildung (24 Stunden à 60 Min.)\, die alle Gebiete (Kenntnisbereiche 1-3) erfassen soll\, die für diese berufliche Tätigkeit des Ausbilders oder der Ausbilderin von Bedeutung sind\, zu aktualisieren. \nSie ist spätestens alle 4 Jahre zu absolvieren. \nDer Unterricht im Sinne des § 2 Abs. 2 und des § 4 Abs. 2 darf nicht von Ausbildern oder Ausbilderinnen\, die sich nicht regelmäßig fortbilden\, durchgeführt werden. \nMusterablauf unserer möglichen Themen \nTag 1: (08:00 – 17:45 Uhr\, inkl. Pausen) \nZ. B.: \n\nFahrsicherheitssysteme in Theorie und Praxis\nFahrsicherheitstraining für LKW\nUnfallvermeidung\, Ausweichübungen\, Vertiefung der gelernten Inhalte\nDozent: Hoger Heberle\n\nTag 2: (08:00 – 17:45 Uhr\, inkl. Pausen) \nZ. B.: \n\nDigitaler Tachograph/Arbeitsrecht\nDokumentation\nAuswertung von Aufzeichnungen\nBesondere Situationen\nDoznt: Immanuel Noske\n\nTag 3: (08:00 – 18:00 Uhr\, inkl. Pausen) \nZ. B.: \n\nNeue Rechtsvorschriften der Ladungssicherung\nOptimierte Möglichkeiten der Ladungssicherung\nAnforderungen aus der täglichen Praxis\nNeue Erkenntnisse für Aufbau- und Zurrpunktfestigkeiten\nWeitere Hilfsmittel zur Ladungssicherung\nDozent: Holger Lemmer\n\nDie tatsächlichen Themeninhalte können zu den einzelnen Terminen variieren.\nGerne können Sie sich bei uns für Ihren Wunschtermin nach den Themeninhalten erkundigen. \n\n		\n	\n	\n	\n	\n		production ID_4524438
URL:https://move-bildung.de/event/fortbildung-der-ausbilder/
LOCATION:Move Bildung GmbH\, Heilbronnerstr\, Ludwigsburg\, BW\, 71634\, Deutschland
CATEGORIES:Ausbildung zum Fahrlehrer,Erweiterungslehrgang Klasse A (Motorrad)
ATTACH;FMTTYPE=image/jpeg:https://move-bildung.de/wp-content/uploads/2022/02/img.jpeg
END:VEVENT
END:VCALENDAR